Package: Cepo Version: 1.12.0 Maintainer: Hani Jieun Kim MaintainerEmail: hani.kim127 at gmail.com git_url: https://git.bioconductor.org/packages/Cepo git_branch: RELEASE_3_20 git_last_commit: d36a16b git_last_commit_date: 2024-10-29 11:06:03 -0500 (Tue, 29 Oct 2024)