Package: CelliD Version: 1.14.0 Command: rm -rf CelliD.buildbin-libdir && mkdir CelliD.buildbin-libdir && F:\biocbuild\bbs-3.20-bioc\R\bin\R.exe CMD INSTALL --build --library=CelliD.buildbin-libdir CelliD_1.14.0.tar.gz StartedAt: 2025-01-28 07:49:20 -0500 (Tue, 28 Jan 2025) EndedAt: 2025-01-28 07:50:46 -0500 (Tue, 28 Jan 2025) EllapsedTime: 85.9 seconds RetCode: 0 Status: OK PackageFile: CelliD_1.14.0.zip PackageFileSize: 1.561 MiB