Package: CelliD Version: 1.14.0 Command: /home/biocbuild/bbs-3.20-bioc/R/bin/R CMD INSTALL CelliD StartedAt: 2025-01-27 16:46:24 -0500 (Mon, 27 Jan 2025) EndedAt: 2025-01-27 16:47:40 -0500 (Mon, 27 Jan 2025) EllapsedTime: 76.7 seconds RetCode: 0 Status: OK