Package: CelliD Version: 1.14.0 Command: /Library/Frameworks/R.framework/Resources/bin/R CMD build --keep-empty-dirs --no-resave-data CelliD StartedAt: 2025-01-27 17:41:55 -0500 (Mon, 27 Jan 2025) EndedAt: 2025-01-27 17:58:10 -0500 (Mon, 27 Jan 2025) EllapsedTime: 974.9 seconds RetCode: 0 Status: OK PackageFile: CelliD_1.14.0.tar.gz PackageFileSize: 2.595 MiB