Package: CellaRepertorium Version: 1.16.0 Command: /Library/Frameworks/R.framework/Resources/bin/R CMD INSTALL CellaRepertorium StartedAt: 2025-01-27 15:28:45 -0500 (Mon, 27 Jan 2025) EndedAt: 2025-01-27 15:29:17 -0500 (Mon, 27 Jan 2025) EllapsedTime: 32.5 seconds RetCode: 0 Status: OK