Package: CellaRepertorium Version: 1.16.0 Command: /Library/Frameworks/R.framework/Resources/bin/R CMD build --keep-empty-dirs --no-resave-data CellaRepertorium StartedAt: 2025-01-27 20:16:39 -0500 (Mon, 27 Jan 2025) EndedAt: 2025-01-27 20:18:13 -0500 (Mon, 27 Jan 2025) EllapsedTime: 94.4 seconds RetCode: 1 Status: ERROR PackageFile: None PackageFileSize: NA