Package: CellTrails Version: 1.24.0 Command: /home/biocbuild/R/R/bin/R CMD build --keep-empty-dirs --no-resave-data CellTrails StartedAt: 2025-02-10 22:13:40 -0000 (Mon, 10 Feb 2025) EndedAt: 2025-02-10 22:14:27 -0000 (Mon, 10 Feb 2025) EllapsedTime: 47.0 seconds RetCode: 0 Status: OK PackageFile: CellTrails_1.24.0.tar.gz PackageFileSize: 2.625 MiB