Package: CellTrails Version: 1.24.0 Command: F:\biocbuild\bbs-3.20-bioc\R\bin\R.exe CMD INSTALL CellTrails StartedAt: 2025-02-10 16:04:05 -0500 (Mon, 10 Feb 2025) EndedAt: 2025-02-10 16:05:55 -0500 (Mon, 10 Feb 2025) EllapsedTime: 110.3 seconds RetCode: 0 Status: OK