Package: CellTrails Version: 1.24.0 Command: chmod a+r CellTrails -R && F:\biocbuild\bbs-3.20-bioc\R\bin\R.exe CMD build --keep-empty-dirs --no-resave-data CellTrails StartedAt: 2025-02-10 17:55:47 -0500 (Mon, 10 Feb 2025) EndedAt: 2025-02-10 17:57:09 -0500 (Mon, 10 Feb 2025) EllapsedTime: 81.4 seconds RetCode: 0 Status: OK PackageFile: CellTrails_1.24.0.tar.gz PackageFileSize: 2.629 MiB