Package: CellTrails Version: 1.24.0 Command: /home/biocbuild/bbs-3.20-bioc/R/bin/R CMD check --install=check:CellTrails.install-out.txt --library=/home/biocbuild/bbs-3.20-bioc/R/site-library --timings CellTrails_1.24.0.tar.gz StartedAt: 2025-02-03 20:50:19 -0500 (Mon, 03 Feb 2025) EndedAt: 2025-02-03 20:54:12 -0500 (Mon, 03 Feb 2025) EllapsedTime: 233.3 seconds RetCode: 0 Status: OK CheckDir: CellTrails.Rcheck Warnings: 0