Package: CellTrails Version: 1.24.0 Command: /home/biocbuild/bbs-3.20-bioc/R/bin/R CMD build --keep-empty-dirs --no-resave-data --md5 CellTrails StartedAt: 2025-02-03 16:45:49 -0500 (Mon, 03 Feb 2025) EndedAt: 2025-02-03 16:46:27 -0500 (Mon, 03 Feb 2025) EllapsedTime: 38.0 seconds RetCode: 0 Status: OK PackageFile: CellTrails_1.24.0.tar.gz PackageFileSize: 2.634 MiB