Package: CellTrails Version: 1.24.0 Command: /Library/Frameworks/R.framework/Resources/bin/R CMD build --keep-empty-dirs --no-resave-data CellTrails StartedAt: 2025-02-10 17:37:37 -0500 (Mon, 10 Feb 2025) EndedAt: 2025-02-10 17:39:09 -0500 (Mon, 10 Feb 2025) EllapsedTime: 92.0 seconds RetCode: 0 Status: OK PackageFile: CellTrails_1.24.0.tar.gz PackageFileSize: 2.628 MiB