Package: CellTrails Version: 1.24.0 Command: rm -rf CellTrails.buildbin-libdir && mkdir CellTrails.buildbin-libdir && /Users/biocbuild/BBS/utils/build-universal.sh CellTrails_1.24.0.tar.gz /Library/Frameworks/R.framework/Resources/bin/R CellTrails.buildbin-libdir StartedAt: 2025-02-05 15:09:24 -0500 (Wed, 05 Feb 2025) EndedAt: 2025-02-05 15:09:58 -0500 (Wed, 05 Feb 2025) EllapsedTime: 33.6 seconds RetCode: 0 Status: OK PackageFile: CellTrails_1.24.0.tgz PackageFileSize: 3.008 MiB