Package: CellScore Version: 1.26.0 Command: F:\biocbuild\bbs-3.20-bioc\R\bin\R.exe CMD INSTALL CellScore StartedAt: 2025-03-31 15:51:05 -0400 (Mon, 31 Mar 2025) EndedAt: 2025-03-31 15:51:36 -0400 (Mon, 31 Mar 2025) EllapsedTime: 30.2 seconds RetCode: 0 Status: OK