Package: CellScore Version: 1.26.0 Command: /home/biocbuild/bbs-3.20-bioc/R/bin/R CMD check --install=check:CellScore.install-out.txt --library=/home/biocbuild/bbs-3.20-bioc/R/site-library --timings CellScore_1.26.0.tar.gz StartedAt: 2025-02-10 20:42:40 -0500 (Mon, 10 Feb 2025) EndedAt: 2025-02-10 20:50:34 -0500 (Mon, 10 Feb 2025) EllapsedTime: 473.6 seconds RetCode: 0 Status: OK CheckDir: CellScore.Rcheck Warnings: 0