Package: CellMixS Version: 1.22.0 Command: /home/biocbuild/R/R/bin/R CMD INSTALL CellMixS StartedAt: 2025-01-27 21:56:18 -0000 (Mon, 27 Jan 2025) EndedAt: 2025-01-27 21:56:52 -0000 (Mon, 27 Jan 2025) EllapsedTime: 33.4 seconds RetCode: 0 Status: OK