Package: CellMixS Version: 1.22.0 Command: F:\biocbuild\bbs-3.20-bioc\R\bin\R.exe CMD INSTALL CellMixS StartedAt: 2025-03-31 16:53:34 -0400 (Mon, 31 Mar 2025) EndedAt: 2025-03-31 16:54:09 -0400 (Mon, 31 Mar 2025) EllapsedTime: 34.6 seconds RetCode: 0 Status: OK