Package: CellMixS Version: 1.22.0 Command: /Library/Frameworks/R.framework/Resources/bin/R CMD INSTALL CellMixS StartedAt: 2025-02-03 16:35:50 -0500 (Mon, 03 Feb 2025) EndedAt: 2025-02-03 16:36:48 -0500 (Mon, 03 Feb 2025) EllapsedTime: 58.2 seconds RetCode: 0 Status: OK