Package: CellMixS Version: 1.22.0 Command: rm -rf CellMixS.buildbin-libdir && mkdir CellMixS.buildbin-libdir && /Users/biocbuild/BBS/utils/build-universal.sh CellMixS_1.22.0.tar.gz /Library/Frameworks/R.framework/Resources/bin/R CellMixS.buildbin-libdir StartedAt: 2024-11-20 04:18:10 -0500 (Wed, 20 Nov 2024) EndedAt: 2024-11-20 04:18:53 -0500 (Wed, 20 Nov 2024) EllapsedTime: 42.4 seconds RetCode: 0 Status: OK PackageFile: CellMixS_1.22.0.tgz PackageFileSize: 4.198 MiB