Package: CellMixS Version: 1.22.0 Command: /Library/Frameworks/R.framework/Resources/bin/R CMD check --install=check:CellMixS.install-out.txt --library=/Library/Frameworks/R.framework/Resources/library --no-vignettes --timings CellMixS_1.22.0.tar.gz StartedAt: 2024-11-08 22:27:18 -0500 (Fri, 08 Nov 2024) EndedAt: 2024-11-08 22:32:19 -0500 (Fri, 08 Nov 2024) EllapsedTime: 301.0 seconds RetCode: 0 Status: OK CheckDir: CellMixS.Rcheck Warnings: 0