Package: CellMixS Version: 1.22.0 Command: /Library/Frameworks/R.framework/Resources/bin/R CMD build --keep-empty-dirs --no-resave-data CellMixS StartedAt: 2025-01-27 20:20:40 -0500 (Mon, 27 Jan 2025) EndedAt: 2025-01-27 20:23:18 -0500 (Mon, 27 Jan 2025) EllapsedTime: 157.8 seconds RetCode: 0 Status: OK PackageFile: CellMixS_1.22.0.tar.gz PackageFileSize: 4.125 MiB