Package: CellMapper Version: 1.32.0 Command: /home/biocbuild/R/R/bin/R CMD INSTALL CellMapper StartedAt: 2025-01-27 21:05:47 -0000 (Mon, 27 Jan 2025) EndedAt: 2025-01-27 21:06:13 -0000 (Mon, 27 Jan 2025) EllapsedTime: 26.6 seconds RetCode: 0 Status: OK