Package: CellMapper Version: 1.32.0 Command: /home/biocbuild/R/R/bin/R CMD build --keep-empty-dirs --no-resave-data CellMapper StartedAt: 2025-02-03 22:28:18 -0000 (Mon, 03 Feb 2025) EndedAt: 2025-02-03 22:30:22 -0000 (Mon, 03 Feb 2025) EllapsedTime: 124.0 seconds RetCode: 0 Status: OK PackageFile: CellMapper_1.32.0.tar.gz PackageFileSize: 199.7 KiB