Package: CellMapper Version: 1.32.0 Command: rm -rf CellMapper.buildbin-libdir && mkdir CellMapper.buildbin-libdir && F:\biocbuild\bbs-3.20-bioc\R\bin\R.exe CMD INSTALL --build --library=CellMapper.buildbin-libdir CellMapper_1.32.0.tar.gz StartedAt: 2025-04-01 07:51:17 -0400 (Tue, 01 Apr 2025) EndedAt: 2025-04-01 07:51:29 -0400 (Tue, 01 Apr 2025) EllapsedTime: 11.2 seconds RetCode: 0 Status: OK PackageFile: CellMapper_1.32.0.zip PackageFileSize: 352.2 KiB