Package: CellMapper Version: 1.32.0 Command: /home/biocbuild/bbs-3.20-bioc/R/bin/R CMD INSTALL CellMapper StartedAt: 2025-02-03 15:15:54 -0500 (Mon, 03 Feb 2025) EndedAt: 2025-02-03 15:16:08 -0500 (Mon, 03 Feb 2025) EllapsedTime: 14.1 seconds RetCode: 0 Status: OK