Package: CellMapper Version: 1.32.0 Command: /home/biocbuild/bbs-3.20-bioc/R/bin/R CMD check --install=check:CellMapper.install-out.txt --library=/home/biocbuild/bbs-3.20-bioc/R/site-library --timings CellMapper_1.32.0.tar.gz StartedAt: 2025-01-27 21:33:11 -0500 (Mon, 27 Jan 2025) EndedAt: 2025-01-27 21:37:27 -0500 (Mon, 27 Jan 2025) EllapsedTime: 256.2 seconds RetCode: 0 Status: WARNINGS CheckDir: CellMapper.Rcheck Warnings: 1