Package: CellMapper Version: 1.32.0 Command: rm -rf CellMapper.buildbin-libdir && mkdir CellMapper.buildbin-libdir && /Users/biocbuild/BBS/utils/build-universal.sh CellMapper_1.32.0.tar.gz /Library/Frameworks/R.framework/Resources/bin/R CellMapper.buildbin-libdir StartedAt: 2025-02-04 12:37:19 -0500 (Tue, 04 Feb 2025) EndedAt: 2025-02-04 12:37:33 -0500 (Tue, 04 Feb 2025) EllapsedTime: 13.4 seconds RetCode: 0 Status: OK PackageFile: CellMapper_1.32.0.tgz PackageFileSize: 346.1 KiB