Package: CellMapper Version: 1.32.0 Command: /Library/Frameworks/R.framework/Resources/bin/R CMD check --install=check:CellMapper.install-out.txt --library=/Library/Frameworks/R.framework/Resources/library --no-vignettes --timings CellMapper_1.32.0.tar.gz StartedAt: 2025-04-01 13:32:49 -0400 (Tue, 01 Apr 2025) EndedAt: 2025-04-01 13:36:43 -0400 (Tue, 01 Apr 2025) EllapsedTime: 233.9 seconds RetCode: 0 Status: WARNINGS CheckDir: CellMapper.Rcheck Warnings: 1