Package: CellBench Version: 1.22.0 Command: F:\biocbuild\bbs-3.20-bioc\R\bin\R.exe CMD check --no-multiarch --install=check:CellBench.install-out.txt --library=F:\biocbuild\bbs-3.20-bioc\R\library --no-vignettes --timings CellBench_1.22.0.tar.gz StartedAt: 2025-01-27 23:51:10 -0500 (Mon, 27 Jan 2025) EndedAt: 2025-01-27 23:56:15 -0500 (Mon, 27 Jan 2025) EllapsedTime: 305.3 seconds RetCode: 0 Status: OK CheckDir: CellBench.Rcheck Warnings: 0