Package: CellBench Version: 1.22.0 Command: /Library/Frameworks/R.framework/Resources/bin/R CMD INSTALL CellBench StartedAt: 2025-01-27 15:30:34 -0500 (Mon, 27 Jan 2025) EndedAt: 2025-01-27 15:31:34 -0500 (Mon, 27 Jan 2025) EllapsedTime: 60.6 seconds RetCode: 0 Status: OK