Package: CellBench Version: 1.22.0 Command: /Library/Frameworks/R.framework/Resources/bin/R CMD build --keep-empty-dirs --no-resave-data CellBench StartedAt: 2025-01-27 17:41:51 -0500 (Mon, 27 Jan 2025) EndedAt: 2025-01-27 17:43:40 -0500 (Mon, 27 Jan 2025) EllapsedTime: 109.6 seconds RetCode: 0 Status: OK PackageFile: CellBench_1.22.0.tar.gz PackageFileSize: 3.014 MiB