Package: CellBarcode Version: 1.12.0 Command: F:\biocbuild\bbs-3.20-bioc\R\bin\R.exe CMD INSTALL CellBarcode StartedAt: 2025-03-31 16:26:41 -0400 (Mon, 31 Mar 2025) EndedAt: 2025-03-31 16:29:30 -0400 (Mon, 31 Mar 2025) EllapsedTime: 168.5 seconds RetCode: 0 Status: OK