Package: CellBarcode Version: 1.12.0 Command: /Library/Frameworks/R.framework/Resources/bin/R CMD build --keep-empty-dirs --no-resave-data CellBarcode StartedAt: 2025-01-30 17:46:23 -0500 (Thu, 30 Jan 2025) EndedAt: 2025-01-30 17:49:40 -0500 (Thu, 30 Jan 2025) EllapsedTime: 196.9 seconds RetCode: 0 Status: OK PackageFile: CellBarcode_1.12.0.tar.gz PackageFileSize: 3.117 MiB