Package: CellBarcode Version: 1.12.0 Command: /Library/Frameworks/R.framework/Resources/bin/R CMD build --keep-empty-dirs --no-resave-data CellBarcode StartedAt: 2025-03-31 20:11:27 -0400 (Mon, 31 Mar 2025) EndedAt: 2025-03-31 20:13:10 -0400 (Mon, 31 Mar 2025) EllapsedTime: 102.3 seconds RetCode: 0 Status: OK PackageFile: CellBarcode_1.12.0.tar.gz PackageFileSize: 3.117 MiB