Package: CeTF Version: 1.18.0 Command: /Library/Frameworks/R.framework/Resources/bin/R CMD check --install=check:CeTF.install-out.txt --library=/Library/Frameworks/R.framework/Resources/library --no-vignettes --timings CeTF_1.18.0.tar.gz StartedAt: 2025-04-01 00:33:40 -0400 (Tue, 01 Apr 2025) EndedAt: 2025-04-01 00:43:48 -0400 (Tue, 01 Apr 2025) EllapsedTime: 607.6 seconds RetCode: 0 Status: OK CheckDir: CeTF.Rcheck Warnings: 0