Package: CeTF Version: 1.18.0 Command: rm -rf CeTF.buildbin-libdir && mkdir CeTF.buildbin-libdir && /Users/biocbuild/BBS/utils/build-universal.sh CeTF_1.18.0.tar.gz /Library/Frameworks/R.framework/Resources/bin/R CeTF.buildbin-libdir StartedAt: 2025-01-31 12:29:50 -0500 (Fri, 31 Jan 2025) EndedAt: 2025-01-31 12:31:56 -0500 (Fri, 31 Jan 2025) EllapsedTime: 126.0 seconds RetCode: 0 Status: OK PackageFile: CeTF_1.18.0.tgz PackageFileSize: 4.34 MiB