Package: CausalR Version: 1.38.0 Command: /home/biocbuild/R/R/bin/R CMD build --keep-empty-dirs --no-resave-data CausalR StartedAt: 2025-01-27 23:04:07 -0000 (Mon, 27 Jan 2025) EndedAt: 2025-01-27 23:04:39 -0000 (Mon, 27 Jan 2025) EllapsedTime: 32.0 seconds RetCode: 0 Status: OK PackageFile: CausalR_1.38.0.tar.gz PackageFileSize: 561.1 KiB