Package: CausalR Version: 1.38.0 Command: /Library/Frameworks/R.framework/Resources/bin/R CMD check --install=check:CausalR.install-out.txt --library=/Library/Frameworks/R.framework/Resources/library --no-vignettes --timings CausalR_1.38.0.tar.gz StartedAt: 2025-01-28 01:00:59 -0500 (Tue, 28 Jan 2025) EndedAt: 2025-01-28 01:02:10 -0500 (Tue, 28 Jan 2025) EllapsedTime: 71.1 seconds RetCode: 0 Status: OK CheckDir: CausalR.Rcheck Warnings: 0