Package: CatsCradle Version: 1.0.0 Command: F:\biocbuild\bbs-3.20-bioc\R\bin\R.exe CMD INSTALL CatsCradle StartedAt: 2025-01-27 16:39:10 -0500 (Mon, 27 Jan 2025) EndedAt: 2025-01-27 16:40:32 -0500 (Mon, 27 Jan 2025) EllapsedTime: 82.6 seconds RetCode: 0 Status: OK