Package: CatsCradle Version: 1.0.0 Command: chmod a+r CatsCradle -R && F:\biocbuild\bbs-3.20-bioc\R\bin\R.exe CMD build --keep-empty-dirs --no-resave-data CatsCradle StartedAt: 2025-02-03 17:57:39 -0500 (Mon, 03 Feb 2025) EndedAt: 2025-02-03 18:07:31 -0500 (Mon, 03 Feb 2025) EllapsedTime: 592.4 seconds RetCode: 0 Status: OK PackageFile: CatsCradle_1.0.0.tar.gz PackageFileSize: 3.122 MiB