Package: CatsCradle Version: 1.0.0 Command: rm -rf CatsCradle.buildbin-libdir && mkdir CatsCradle.buildbin-libdir && F:\biocbuild\bbs-3.20-bioc\R\bin\R.exe CMD INSTALL --build --library=CatsCradle.buildbin-libdir CatsCradle_1.0.0.tar.gz StartedAt: 2025-02-04 08:08:20 -0500 (Tue, 04 Feb 2025) EndedAt: 2025-02-04 08:09:54 -0500 (Tue, 04 Feb 2025) EllapsedTime: 94.6 seconds RetCode: 0 Status: OK PackageFile: CatsCradle_1.0.0.zip PackageFileSize: 3.123 MiB