Package: CatsCradle Version: 1.0.0 Command: /home/biocbuild/bbs-3.20-bioc/R/bin/R CMD INSTALL CatsCradle StartedAt: 2025-01-27 16:36:16 -0500 (Mon, 27 Jan 2025) EndedAt: 2025-01-27 16:36:58 -0500 (Mon, 27 Jan 2025) EllapsedTime: 42.8 seconds RetCode: 0 Status: OK