Package: CatsCradle Version: 1.0.0 Command: /home/biocbuild/bbs-3.20-bioc/R/bin/R CMD build --keep-empty-dirs --no-resave-data --md5 CatsCradle StartedAt: 2025-02-03 16:42:53 -0500 (Mon, 03 Feb 2025) EndedAt: 2025-02-03 16:49:01 -0500 (Mon, 03 Feb 2025) EllapsedTime: 368.4 seconds RetCode: 0 Status: OK PackageFile: CatsCradle_1.0.0.tar.gz PackageFileSize: 6.011 MiB