Package: CatsCradle Version: 1.0.0 Command: /Library/Frameworks/R.framework/Resources/bin/R CMD INSTALL CatsCradle StartedAt: 2025-01-27 16:17:48 -0500 (Mon, 27 Jan 2025) EndedAt: 2025-01-27 16:19:17 -0500 (Mon, 27 Jan 2025) EllapsedTime: 89.5 seconds RetCode: 0 Status: OK