Package: CatsCradle Version: 1.0.0 Command: /Library/Frameworks/R.framework/Resources/bin/R CMD build --keep-empty-dirs --no-resave-data CatsCradle StartedAt: 2025-02-03 20:02:18 -0500 (Mon, 03 Feb 2025) EndedAt: 2025-02-03 20:10:53 -0500 (Mon, 03 Feb 2025) EllapsedTime: 514.5 seconds RetCode: 0 Status: OK PackageFile: CatsCradle_1.0.0.tar.gz PackageFileSize: 8.394 MiB