Package: Category Version: 2.72.0 Command: /home/biocbuild/bbs-3.20-bioc/R/bin/R CMD check --install=check:Category.install-out.txt --library=/home/biocbuild/bbs-3.20-bioc/R/site-library --timings Category_2.72.0.tar.gz StartedAt: 2024-11-19 23:53:37 -0500 (Tue, 19 Nov 2024) EndedAt: 2024-11-19 23:57:06 -0500 (Tue, 19 Nov 2024) EllapsedTime: 208.6 seconds RetCode: 0 Status: OK CheckDir: Category.Rcheck Warnings: 0