Package: Category Version: 2.72.0 Command: F:\biocbuild\bbs-3.20-bioc\R\bin\R.exe CMD INSTALL Category StartedAt: 2025-01-27 16:37:44 -0500 (Mon, 27 Jan 2025) EndedAt: 2025-01-27 16:38:56 -0500 (Mon, 27 Jan 2025) EllapsedTime: 72.4 seconds RetCode: 0 Status: OK