Package: Category Version: 2.72.0 Command: F:\biocbuild\bbs-3.20-bioc\R\bin\R.exe CMD check --no-multiarch --install=check:Category.install-out.txt --library=F:\biocbuild\bbs-3.20-bioc\R\library --no-vignettes --timings Category_2.72.0.tar.gz StartedAt: 2025-01-27 23:44:35 -0500 (Mon, 27 Jan 2025) EndedAt: 2025-01-27 23:51:08 -0500 (Mon, 27 Jan 2025) EllapsedTime: 392.6 seconds RetCode: 0 Status: OK CheckDir: Category.Rcheck Warnings: 0