Package: Category Version: 2.72.0 Command: chmod a+r Category -R && F:\biocbuild\bbs-3.20-bioc\R\bin\R.exe CMD build --keep-empty-dirs --no-resave-data Category StartedAt: 2025-01-27 17:47:34 -0500 (Mon, 27 Jan 2025) EndedAt: 2025-01-27 17:49:47 -0500 (Mon, 27 Jan 2025) EllapsedTime: 133.0 seconds RetCode: 0 Status: OK PackageFile: Category_2.72.0.tar.gz PackageFileSize: 864.2 KiB