Package: Category Version: 2.72.0 Command: /home/biocbuild/bbs-3.20-bioc/R/bin/R CMD INSTALL Category StartedAt: 2025-03-31 15:44:42 -0400 (Mon, 31 Mar 2025) EndedAt: 2025-03-31 15:45:04 -0400 (Mon, 31 Mar 2025) EllapsedTime: 22.3 seconds RetCode: 0 Status: OK